BEGIN:VCALENDAR
VERSION:2.0
PRODID:-//Khacho Yulo Ling Buddhist Centre - ECPv6.15.20//NONSGML v1.0//EN
CALSCALE:GREGORIAN
METHOD:PUBLISH
X-WR-CALNAME:Khacho Yulo Ling Buddhist Centre
X-ORIGINAL-URL:https://www.yuloling.com
X-WR-CALDESC:Events for Khacho Yulo Ling Buddhist Centre
REFRESH-INTERVAL;VALUE=DURATION:PT1H
X-Robots-Tag:noindex
X-PUBLISHED-TTL:PT1H
BEGIN:VTIMEZONE
TZID:Australia/Brisbane
BEGIN:STANDARD
TZOFFSETFROM:+1000
TZOFFSETTO:+1000
TZNAME:AEST
DTSTART:20250101T000000
END:STANDARD
END:VTIMEZONE
BEGIN:VEVENT
DTSTART;TZID=Australia/Brisbane:20260613T180000
DTEND;TZID=Australia/Brisbane:20260613T190000
DTSTAMP:20260420T223207
CREATED:20260418T060057Z
LAST-MODIFIED:20260418T060057Z
UID:2720-1781373600-1781377200@www.yuloling.com
SUMMARY:Woyaya Fundraising Concert - Saturday June 13 at 6pm - 7pm
DESCRIPTION:Come and join Jane Younghusband and the Woyaya Choir singing songs from around the world.  An amazing concert celebrating a diverse range of songs from different parts of the world and cultures.  This is also a fundraising event that Jane and the choir offer to the Buddhist Centre\, we are always so grateful for their on going support as well as the support given by those who attend.  A beautiful evening of song.  Please book as seating is limited\, \nBookings are available via their Trybooking link: https://www.trybooking.com/events/landing/1566413
URL:https://www.yuloling.com/event/woyaya-fundraising-concert-saturday-june-13-at-6pm-7pm/
CATEGORIES:Concert
ATTACH;FMTTYPE=image/jpeg:https://www.yuloling.com/wp-content/uploads/2026/04/concert-June.jpeg
END:VEVENT
END:VCALENDAR