BEGIN:VCALENDAR
VERSION:2.0
PRODID:-//Khacho Yulo Ling Buddhist Centre - ECPv6.15.20//NONSGML v1.0//EN
CALSCALE:GREGORIAN
METHOD:PUBLISH
X-ORIGINAL-URL:https://www.yuloling.com
X-WR-CALDESC:Events for Khacho Yulo Ling Buddhist Centre
REFRESH-INTERVAL;VALUE=DURATION:PT1H
X-Robots-Tag:noindex
X-PUBLISHED-TTL:PT1H
BEGIN:VTIMEZONE
TZID:Australia/Brisbane
BEGIN:STANDARD
TZOFFSETFROM:+1000
TZOFFSETTO:+1000
TZNAME:AEST
DTSTART:20250101T000000
END:STANDARD
END:VTIMEZONE
BEGIN:VEVENT
DTSTART;TZID=Australia/Brisbane:20260218T180000
DTEND;TZID=Australia/Brisbane:20260218T200000
DTSTAMP:20260421T235748
CREATED:20260207T032456Z
LAST-MODIFIED:20260207T033105Z
UID:2422-1771437600-1771444800@www.yuloling.com
SUMMARY:Tibetan New Year 16 Arhat Puja 6pm 18 February
DESCRIPTION:The official start to Tibetan New year is the 18th February and we will celebrate with a 16 Arhat puja followed by traditional khapse cookies and chai.  Join us for this special celebration to accumulate postive potential for the upcoming year not only for oneself but  for all sentient beings.  This beautiful chanting practice calls on all the Buddhas and the Arhats to help the teachings flourish.  We request this so that our minds open up to our true potential of wisdom and compassion so the world can be a better place for all beings.
URL:https://www.yuloling.com/event/tibetan-new-year-16-arhat-puja-6pm-18-february/
CATEGORIES:Celebration
ATTACH;FMTTYPE=image/jpeg:https://www.yuloling.com/wp-content/uploads/2025/12/Fire-horse-image.jpg
END:VEVENT
END:VCALENDAR