BEGIN:VCALENDAR
VERSION:2.0
PRODID:-//Khacho Yulo Ling Buddhist Centre - ECPv6.15.20//NONSGML v1.0//EN
CALSCALE:GREGORIAN
METHOD:PUBLISH
X-ORIGINAL-URL:https://www.yuloling.com
X-WR-CALDESC:Events for Khacho Yulo Ling Buddhist Centre
REFRESH-INTERVAL;VALUE=DURATION:PT1H
X-Robots-Tag:noindex
X-PUBLISHED-TTL:PT1H
BEGIN:VTIMEZONE
TZID:Australia/Brisbane
BEGIN:STANDARD
TZOFFSETFROM:+1000
TZOFFSETTO:+1000
TZNAME:AEST
DTSTART:20250101T000000
END:STANDARD
END:VTIMEZONE
BEGIN:VEVENT
DTSTART;TZID=Australia/Brisbane:20260916T093000
DTEND;TZID=Australia/Brisbane:20260916T103000
DTSTAMP:20260426T014212
CREATED:20260418T012924Z
LAST-MODIFIED:20260418T012924Z
UID:2653-1789551000-1789554600@www.yuloling.com
SUMMARY:Chenrezig Practice - Wednesday mornings at 9.30am
DESCRIPTION:We do the practice of Chenrezig – Avolokiteshvara\, every Wednesday morning at 9.30am and dedicate it to those who are sick\, suffering and recently deceased. \nWe have a healing list with names of people in the community who are in need of prayers and we also have a list for those who have died. We offer prayers and mantras on their behalf and many have found this very helpful in both the healing and grieving process. It is a simple\, beautiful\, yet quite profound practice \n\n\n\n\n\n\nIt is preferable if people have had the transmission of the Mantra “Om Mani Padme Hum”. \nFor those who are new and don’t have the transmission to this practice\, we recommend that you sit in and listen for the first time\, as a meditation practice. \nThe practice takes around 45 minutes and is chanted mainly in English except for some Sanskrit verses.\n\n\n\n\n\n\nAbout Chenrezig – Avolokiteshvara
URL:https://www.yuloling.com/event/chenrezig-practice-wednesday-mornings-at-9-30am-34/
LOCATION:QLD
ATTACH;FMTTYPE=image/jpeg:https://www.yuloling.com/wp-content/uploads/2025/03/Chenrezig_whiteLotus.jpg
END:VEVENT
BEGIN:VEVENT
DTSTART;TZID=Australia/Brisbane:20260916T103000
DTEND;TZID=Australia/Brisbane:20260916T113000
DTSTAMP:20260426T014212
CREATED:20260418T013715Z
LAST-MODIFIED:20260418T013715Z
UID:2679-1789554600-1789558200@www.yuloling.com
SUMMARY:Wednesday Morning Meditation
DESCRIPTION:The Meditation sessions begin with some simple Buddhist prayers to set our motivation and end with a beautiful dedication prayer. \nThe sessions consist of 2 x 24 minute silent sessions interspersed with the gong. These sessions are for those who have some meditation experience and are used to meditating without guidance. For those who are not able to sit comfortably on a cushion\, chairs are available. \n\n\n\n\n\n\nWe try to keep the meditation instructions to a minimum so as not to cause any conflict with the many varied styles of meditation. For those new to meditation we have Guided Meditations with instructions on a Tuesday evening throughout the year and details are posted on our website. \nNo bookings necessary\, by donation. \nWhat to bring\n\na sarong to cover cushion/chair\nwear comfortable\, respectful clothing
URL:https://www.yuloling.com/event/wednesday-morning-meditation-34/
LOCATION:Khacho Yulo Ling Buddhist Centre\, 348 Severin Street\, Cairns\, QLD\, 4879\, Australia
CATEGORIES:Meditation
ATTACH;FMTTYPE=image/jpeg:https://www.yuloling.com/wp-content/uploads/2025/02/blessing-3.jpg
END:VEVENT
BEGIN:VEVENT
DTSTART;TZID=Australia/Brisbane:20260920T100000
DTEND;TZID=Australia/Brisbane:20260920T110000
DTSTAMP:20260426T014212
CREATED:20260424T233630Z
LAST-MODIFIED:20260424T233630Z
UID:2747-1789898400-1789902000@www.yuloling.com
SUMMARY:Sunday Morning Meditation - Daniel\, Facilitator
DESCRIPTION:The Meditation starts with some simple Buddhist prayers to set out motivation and finish with a beautiful dedication of the merit prayer. \nThe sessions consist of 2 x 24 minute silent sessions interspersed with the gong. These sessions are for those who have some meditation experience and are used to meditating without guidance. For those who are not able to sit on a cushion\, chairs are available. \n\n\n\n\n\n\nWe try to keep the meditation instructions to a minimum so as not to cause any conflict with the many varied styles of meditation. For those new to meditation we have Guided Meditations with instructions on a Tuesday evening throughout the year and details are posted on our website. \nNo bookings necessary\, by donation. \nWhat to bring\n\na sarong to cover cushion/chair\nwear comfortable\, respectful clothing
URL:https://www.yuloling.com/event/sunday-morning-meditation-daniel-facilitator-5/
LOCATION:Khacho Yulo Ling Buddhist Centre\, 348 Severin Street\, Cairns\, QLD\, 4879\, Australia
CATEGORIES:Meditation
ATTACH;FMTTYPE=image/jpeg:https://www.yuloling.com/wp-content/uploads/2024/12/lotus-blue-scaled.jpg
END:VEVENT
END:VCALENDAR