BEGIN:VCALENDAR
VERSION:2.0
PRODID:-//Khacho Yulo Ling Buddhist Centre - ECPv6.15.20//NONSGML v1.0//EN
CALSCALE:GREGORIAN
METHOD:PUBLISH
X-WR-CALNAME:Khacho Yulo Ling Buddhist Centre
X-ORIGINAL-URL:https://www.yuloling.com
X-WR-CALDESC:Events for Khacho Yulo Ling Buddhist Centre
REFRESH-INTERVAL;VALUE=DURATION:PT1H
X-Robots-Tag:noindex
X-PUBLISHED-TTL:PT1H
BEGIN:VTIMEZONE
TZID:Australia/Brisbane
BEGIN:STANDARD
TZOFFSETFROM:+1000
TZOFFSETTO:+1000
TZNAME:AEST
DTSTART:20250101T000000
END:STANDARD
END:VTIMEZONE
BEGIN:VEVENT
DTSTART;TZID=Australia/Brisbane:20260215T100000
DTEND;TZID=Australia/Brisbane:20260215T110000
DTSTAMP:20260425T201814
CREATED:20251222T031057Z
LAST-MODIFIED:20251222T031057Z
UID:2386-1771149600-1771153200@www.yuloling.com
SUMMARY:Sunday Morning Meditation - Jim\, Facilitator
DESCRIPTION:The Meditation starts with some simple Buddhist prayers to set out motivation and finish with a beautiful dedication of the merit prayer. \nThe sessions consist of 2 x 24 minute silent sessions interspersed with the gong. These sessions are for those who have some meditation experience and are used to meditating without guidance. For those who are not able to sit on a cushion\, chairs are available. \n\n\n\n\n\n\nWe try to keep the meditation instructions to a minimum so as not to cause any conflict with the many varied styles of meditation. For those new to meditation we have Guided Meditations with instructions on a Tuesday evening throughout the year and details are posted on our website. \nNo bookings necessary\, by donation. \nWhat to bring\n\na sarong to cover cushion/chair\nwear comfortable\, respectful clothing
URL:https://www.yuloling.com/event/sunday-morning-meditation-jim-facilitator/
LOCATION:Khacho Yulo Ling Buddhist Centre\, 348 Severin Street\, Cairns\, QLD\, 4879\, Australia
CATEGORIES:Meditation
ATTACH;FMTTYPE=image/jpeg:https://www.yuloling.com/wp-content/uploads/2024/12/lotus-blue-scaled.jpg
END:VEVENT
BEGIN:VEVENT
DTSTART;TZID=Australia/Brisbane:20260215T073000
DTEND;TZID=Australia/Brisbane:20260215T090000
DTSTAMP:20260425T201814
CREATED:20251222T030427Z
LAST-MODIFIED:20251222T030427Z
UID:2373-1771140600-1771146000@www.yuloling.com
SUMMARY:Green Tara Practice Sundays 7.30am
DESCRIPTION:Green Tara Ritual is done in most Tibetan Monasteries daily to dispel obstacles and to help all Dharma activities. \nIt is a lively\, active practice involving lots of chanting and musical instruments\, including the drum\, bells\, cymbals and conch. Green Tara is the swift-action Goddess who comes quickly when called\, to help relieve the suffering of all sentient beings. \nVenerable Rinchen leads the practice every Sunday when she is in residence.  Everyone is welcome to attend but check the calendar to make sure it is on that weekend. \n\n\n\n\n\n\nIt takes around and hour and half and for those who are not familiar with this kind of practice it might be best to sit and listen for the first time as it can be a little difficult to follow. \nThe initiation for Green Tara was given by His Eminence Chogye Trichen Rinpoche when he blessed our centre in 2006 and again by His Holiness Sakya Trizin in 2009 when he gave the 21 Tara Empowerment as part of his visit to Cairns. There are many legends and stories of Green Tara.
URL:https://www.yuloling.com/event/green-tara-practice-sundays-7-30am-13/
CATEGORIES:Meditation
ATTACH;FMTTYPE=image/png:https://www.yuloling.com/wp-content/uploads/2024/07/image9.png
END:VEVENT
BEGIN:VEVENT
DTSTART;TZID=Australia/Brisbane:20260211T103000
DTEND;TZID=Australia/Brisbane:20260211T113000
DTSTAMP:20260425T201814
CREATED:20251222T024852Z
LAST-MODIFIED:20251222T024852Z
UID:2318-1770805800-1770809400@www.yuloling.com
SUMMARY:Wednesday Morning Meditation
DESCRIPTION:The Meditation sessions begin with some simple Buddhist prayers to set our motivation and end with a beautiful dedication prayer. \nThe sessions consist of 2 x 24 minute silent sessions interspersed with the gong. These sessions are for those who have some meditation experience and are used to meditating without guidance. For those who are not able to sit comfortably on a cushion\, chairs are available. \n\n\n\n\n\n\nWe try to keep the meditation instructions to a minimum so as not to cause any conflict with the many varied styles of meditation. For those new to meditation we have Guided Meditations with instructions on a Tuesday evening throughout the year and details are posted on our website. \nNo bookings necessary\, by donation. \nWhat to bring\n\na sarong to cover cushion/chair\nwear comfortable\, respectful clothing
URL:https://www.yuloling.com/event/wednesday-morning-meditation-16/
LOCATION:Khacho Yulo Ling Buddhist Centre\, 348 Severin Street\, Cairns\, QLD\, 4879\, Australia
CATEGORIES:Meditation
ATTACH;FMTTYPE=image/jpeg:https://www.yuloling.com/wp-content/uploads/2025/02/blessing-3.jpg
END:VEVENT
BEGIN:VEVENT
DTSTART;TZID=Australia/Brisbane:20260211T093000
DTEND;TZID=Australia/Brisbane:20260211T103000
DTSTAMP:20260425T201814
CREATED:20251222T025600Z
LAST-MODIFIED:20251222T025600Z
UID:2345-1770802200-1770805800@www.yuloling.com
SUMMARY:Chenrezig Practice - Wednesday mornings at 9.30am
DESCRIPTION:We do the practice of Chenrezig – Avolokiteshvara\, every Wednesday morning at 9.30am and dedicate it to those who are sick\, suffering and recently deceased. \nWe have a healing list with names of people in the community who are in need of prayers and we also have a list for those who have died. We offer prayers and mantras on their behalf and many have found this very helpful in both the healing and grieving process. It is a simple\, beautiful\, yet quite profound practice \n\n\n\n\n\n\nIt is preferable if people have had the transmission of the Mantra “Om Mani Padme Hum”. \nFor those who are new and don’t have the transmission to this practice\, we recommend that you sit in and listen for the first time\, as a meditation practice. \nThe practice takes around 45 minutes and is chanted mainly in English except for some Sanskrit verses.\n\n\n\n\n\n\nAbout Chenrezig – Avolokiteshvara
URL:https://www.yuloling.com/event/chenrezig-practice-wednesday-mornings-at-9-30am-15/
ATTACH;FMTTYPE=image/jpeg:https://www.yuloling.com/wp-content/uploads/2025/03/Chenrezig_whiteLotus.jpg
END:VEVENT
BEGIN:VEVENT
DTSTART;TZID=Australia/Brisbane:20260210T190000
DTEND;TZID=Australia/Brisbane:20260210T200000
DTSTAMP:20260425T201814
CREATED:20260104T000519Z
LAST-MODIFIED:20260104T000519Z
UID:2441-1770750000-1770753600@www.yuloling.com
SUMMARY:Tuesday Evening Guided Meditations Bookings essential via Trybookink link below.
DESCRIPTION:Tuesday Evening Guided Meditations 27th January to 31st March\nVenerable Rinchen will lead the guided meditations which include instructions on both Shamatha and Vipassana Meditation techniques as well as the 4 Immeasurable meditations\, Loving Kindness\, Comapassion\, Joy and Equanimity.  These evenings are suitable for both beginners and regular meditators. \nThe cost is $10 per session and and is also available via Zoom.  A Zoom link will be sent after 5pm each Tuesday for the evening session.   \nIf you are attending in person please bring a sarong/towel to cover cushion or chair and please do not attend if you have any cold or flu like symptoms.  \nBookings are essential via our Trybooking link on: https://www.trybooking.com/DILBT
URL:https://www.yuloling.com/event/tuesday-evening-guided-meditations-bookings-essential-via-trybookink-link-below-8/
LOCATION:Khacho Yulo Ling Buddhist Centre\, 348 Severin Street\, Cairns\, QLD\, 4879\, Australia
CATEGORIES:Meditation
ATTACH;FMTTYPE=image/jpeg:https://www.yuloling.com/wp-content/uploads/2025/02/images-5-e1746844494444.jpg
END:VEVENT
BEGIN:VEVENT
DTSTART;TZID=Australia/Brisbane:20260208T100000
DTEND;TZID=Australia/Brisbane:20260208T110000
DTSTAMP:20260425T201814
CREATED:20251222T031006Z
LAST-MODIFIED:20251222T031006Z
UID:2384-1770544800-1770548400@www.yuloling.com
SUMMARY:Sunday Morning Meditation - Emma\, Facilitator
DESCRIPTION:The Meditation starts with some simple Buddhist prayers to set out motivation and finish with a beautiful dedication of the merit prayer. \nThe sessions consist of 2 x 24 minute silent sessions interspersed with the gong. These sessions are for those who have some meditation experience and are used to meditating without guidance. For those who are not able to sit on a cushion\, chairs are available. \n\n\n\n\n\n\nWe try to keep the meditation instructions to a minimum so as not to cause any conflict with the many varied styles of meditation. For those new to meditation we have Guided Meditations with instructions on a Tuesday evening throughout the year and details are posted on our website. \nNo bookings necessary\, by donation. \nWhat to bring\n\na sarong to cover cushion/chair\nwear comfortable\, respectful clothing
URL:https://www.yuloling.com/event/sunday-morning-meditation-emma-facilitator/
LOCATION:Khacho Yulo Ling Buddhist Centre\, 348 Severin Street\, Cairns\, QLD\, 4879\, Australia
CATEGORIES:Meditation
ATTACH;FMTTYPE=image/jpeg:https://www.yuloling.com/wp-content/uploads/2024/12/lotus-blue-scaled.jpg
END:VEVENT
BEGIN:VEVENT
DTSTART;TZID=Australia/Brisbane:20260208T090000
DTEND;TZID=Australia/Brisbane:20260208T100000
DTSTAMP:20260425T201814
CREATED:20251222T032106Z
LAST-MODIFIED:20251222T032106Z
UID:2409-1770541200-1770544800@www.yuloling.com
SUMMARY:Vajrasattva and Medicine Buddha Practice\, 2nd and 4th Sunday of the Month For Initiated practitioners only
DESCRIPTION:Vajrasattva Practice is an extremely powerful purification meditation. 9.00am \nTo be able to practice it correctly\, you need to receive the teachings and transmission of the mantra from a qualified Teacher. This is to prevent any misunderstanding or incorrect view of the practice. \n\n\n\n\n\n\nMedicine Buddha Practice is a healing practice treasured by many in the Mahayana Buddhist tradition. 9.30am \nIt is a powerful healing practice and mantra recitation that can be used for oneself or dedicated to others.
URL:https://www.yuloling.com/event/vajrasattva-and-medicine-buddha-practice-2nd-and-4th-sunday-of-the-month-for-initiated-practitioners-only-7/
ATTACH;FMTTYPE=image/png:https://www.yuloling.com/wp-content/uploads/2024/07/image8.png
END:VEVENT
BEGIN:VEVENT
DTSTART;TZID=Australia/Brisbane:20260208T073000
DTEND;TZID=Australia/Brisbane:20260208T090000
DTSTAMP:20260425T201814
CREATED:20251222T030346Z
LAST-MODIFIED:20251222T030346Z
UID:2371-1770535800-1770541200@www.yuloling.com
SUMMARY:Green Tara Practice Sundays 7.30am
DESCRIPTION:Green Tara Ritual is done in most Tibetan Monasteries daily to dispel obstacles and to help all Dharma activities. \nIt is a lively\, active practice involving lots of chanting and musical instruments\, including the drum\, bells\, cymbals and conch. Green Tara is the swift-action Goddess who comes quickly when called\, to help relieve the suffering of all sentient beings. \nVenerable Rinchen leads the practice every Sunday when she is in residence.  Everyone is welcome to attend but check the calendar to make sure it is on that weekend. \n\n\n\n\n\n\nIt takes around and hour and half and for those who are not familiar with this kind of practice it might be best to sit and listen for the first time as it can be a little difficult to follow. \nThe initiation for Green Tara was given by His Eminence Chogye Trichen Rinpoche when he blessed our centre in 2006 and again by His Holiness Sakya Trizin in 2009 when he gave the 21 Tara Empowerment as part of his visit to Cairns. There are many legends and stories of Green Tara.
URL:https://www.yuloling.com/event/green-tara-practice-sundays-7-30am-12/
CATEGORIES:Meditation
ATTACH;FMTTYPE=image/png:https://www.yuloling.com/wp-content/uploads/2024/07/image9.png
END:VEVENT
BEGIN:VEVENT
DTSTART;TZID=Australia/Brisbane:20260204T103000
DTEND;TZID=Australia/Brisbane:20260204T113000
DTSTAMP:20260425T201814
CREATED:20251222T024822Z
LAST-MODIFIED:20251222T024822Z
UID:2316-1770201000-1770204600@www.yuloling.com
SUMMARY:Wednesday Morning Meditation
DESCRIPTION:The Meditation sessions begin with some simple Buddhist prayers to set our motivation and end with a beautiful dedication prayer. \nThe sessions consist of 2 x 24 minute silent sessions interspersed with the gong. These sessions are for those who have some meditation experience and are used to meditating without guidance. For those who are not able to sit comfortably on a cushion\, chairs are available. \n\n\n\n\n\n\nWe try to keep the meditation instructions to a minimum so as not to cause any conflict with the many varied styles of meditation. For those new to meditation we have Guided Meditations with instructions on a Tuesday evening throughout the year and details are posted on our website. \nNo bookings necessary\, by donation. \nWhat to bring\n\na sarong to cover cushion/chair\nwear comfortable\, respectful clothing
URL:https://www.yuloling.com/event/wednesday-morning-meditation-15/
LOCATION:Khacho Yulo Ling Buddhist Centre\, 348 Severin Street\, Cairns\, QLD\, 4879\, Australia
CATEGORIES:Meditation
ATTACH;FMTTYPE=image/jpeg:https://www.yuloling.com/wp-content/uploads/2025/02/blessing-3.jpg
END:VEVENT
BEGIN:VEVENT
DTSTART;TZID=Australia/Brisbane:20260204T093000
DTEND;TZID=Australia/Brisbane:20260204T103000
DTSTAMP:20260425T201814
CREATED:20251222T025534Z
LAST-MODIFIED:20251222T025534Z
UID:2343-1770197400-1770201000@www.yuloling.com
SUMMARY:Chenrezig Practice - Wednesday mornings at 9.30am
DESCRIPTION:We do the practice of Chenrezig – Avolokiteshvara\, every Wednesday morning at 9.30am and dedicate it to those who are sick\, suffering and recently deceased. \nWe have a healing list with names of people in the community who are in need of prayers and we also have a list for those who have died. We offer prayers and mantras on their behalf and many have found this very helpful in both the healing and grieving process. It is a simple\, beautiful\, yet quite profound practice \n\n\n\n\n\n\nIt is preferable if people have had the transmission of the Mantra “Om Mani Padme Hum”. \nFor those who are new and don’t have the transmission to this practice\, we recommend that you sit in and listen for the first time\, as a meditation practice. \nThe practice takes around 45 minutes and is chanted mainly in English except for some Sanskrit verses.\n\n\n\n\n\n\nAbout Chenrezig – Avolokiteshvara
URL:https://www.yuloling.com/event/chenrezig-practice-wednesday-mornings-at-9-30am-14/
ATTACH;FMTTYPE=image/jpeg:https://www.yuloling.com/wp-content/uploads/2025/03/Chenrezig_whiteLotus.jpg
END:VEVENT
BEGIN:VEVENT
DTSTART;TZID=Australia/Brisbane:20260201T113000
DTEND;TZID=Australia/Brisbane:20260201T130000
DTSTAMP:20260425T201814
CREATED:20260118T093333Z
LAST-MODIFIED:20260118T093333Z
UID:2512-1769945400-1769950800@www.yuloling.com
SUMMARY:Discussion Group Sunday 1st February at 11.30am
DESCRIPTION:Our Monthly discussion group will resume on Sunday 1st February at 11.30am.  We will continue our discussions on the 5 Aggregates\, all are welcome\, by donation.  Discussion group usually take place on the last Sunday of the month but the dates may change time to time due to other commitments.  We will advertise this via the calendar and also on our Facebook page.
URL:https://www.yuloling.com/event/discussion-group-sunday-1st-february-at-11-30am/
CATEGORIES:Discussion Group
ATTACH;FMTTYPE=image/jpeg:https://www.yuloling.com/wp-content/uploads/2025/03/Buddha-image.jpg
END:VEVENT
BEGIN:VEVENT
DTSTART;TZID=Australia/Brisbane:20260201T100000
DTEND;TZID=Australia/Brisbane:20260201T110000
DTSTAMP:20260425T201814
CREATED:20251222T030855Z
LAST-MODIFIED:20251222T030855Z
UID:2382-1769940000-1769943600@www.yuloling.com
SUMMARY:Sunday Morning Meditation - Anne\, Facilitator
DESCRIPTION:The Meditation starts with some simple Buddhist prayers to set out motivation and finish with a beautiful dedication of the merit prayer. \nThe sessions consist of 2 x 24 minute silent sessions interspersed with the gong. These sessions are for those who have some meditation experience and are used to meditating without guidance. For those who are not able to sit on a cushion\, chairs are available. \n\n\n\n\n\n\nWe try to keep the meditation instructions to a minimum so as not to cause any conflict with the many varied styles of meditation. For those new to meditation we have Guided Meditations with instructions on a Tuesday evening throughout the year and details are posted on our website. \nNo bookings necessary\, by donation. \nWhat to bring\n\na sarong to cover cushion/chair\nwear comfortable\, respectful clothing
URL:https://www.yuloling.com/event/sunday-morning-meditation-anne-facilitator/
LOCATION:Khacho Yulo Ling Buddhist Centre\, 348 Severin Street\, Cairns\, QLD\, 4879\, Australia
CATEGORIES:Meditation
ATTACH;FMTTYPE=image/jpeg:https://www.yuloling.com/wp-content/uploads/2024/12/lotus-blue-scaled.jpg
END:VEVENT
BEGIN:VEVENT
DTSTART;TZID=Australia/Brisbane:20260201T073000
DTEND;TZID=Australia/Brisbane:20260201T090000
DTSTAMP:20260425T201814
CREATED:20251222T030300Z
LAST-MODIFIED:20251222T030300Z
UID:2369-1769931000-1769936400@www.yuloling.com
SUMMARY:Green Tara Practice Sundays 7.30am
DESCRIPTION:Green Tara Ritual is done in most Tibetan Monasteries daily to dispel obstacles and to help all Dharma activities. \nIt is a lively\, active practice involving lots of chanting and musical instruments\, including the drum\, bells\, cymbals and conch. Green Tara is the swift-action Goddess who comes quickly when called\, to help relieve the suffering of all sentient beings. \nVenerable Rinchen leads the practice every Sunday when she is in residence.  Everyone is welcome to attend but check the calendar to make sure it is on that weekend. \n\n\n\n\n\n\nIt takes around and hour and half and for those who are not familiar with this kind of practice it might be best to sit and listen for the first time as it can be a little difficult to follow. \nThe initiation for Green Tara was given by His Eminence Chogye Trichen Rinpoche when he blessed our centre in 2006 and again by His Holiness Sakya Trizin in 2009 when he gave the 21 Tara Empowerment as part of his visit to Cairns. There are many legends and stories of Green Tara.
URL:https://www.yuloling.com/event/green-tara-practice-sundays-7-30am-11/
CATEGORIES:Meditation
ATTACH;FMTTYPE=image/png:https://www.yuloling.com/wp-content/uploads/2024/07/image9.png
END:VEVENT
BEGIN:VEVENT
DTSTART;TZID=Australia/Brisbane:20260128T103000
DTEND;TZID=Australia/Brisbane:20260128T113000
DTSTAMP:20260425T201814
CREATED:20251222T024748Z
LAST-MODIFIED:20251222T024748Z
UID:2314-1769596200-1769599800@www.yuloling.com
SUMMARY:Wednesday Morning Meditation
DESCRIPTION:The Meditation sessions begin with some simple Buddhist prayers to set our motivation and end with a beautiful dedication prayer. \nThe sessions consist of 2 x 24 minute silent sessions interspersed with the gong. These sessions are for those who have some meditation experience and are used to meditating without guidance. For those who are not able to sit comfortably on a cushion\, chairs are available. \n\n\n\n\n\n\nWe try to keep the meditation instructions to a minimum so as not to cause any conflict with the many varied styles of meditation. For those new to meditation we have Guided Meditations with instructions on a Tuesday evening throughout the year and details are posted on our website. \nNo bookings necessary\, by donation. \nWhat to bring\n\na sarong to cover cushion/chair\nwear comfortable\, respectful clothing
URL:https://www.yuloling.com/event/wednesday-morning-meditation-14/
LOCATION:Khacho Yulo Ling Buddhist Centre\, 348 Severin Street\, Cairns\, QLD\, 4879\, Australia
CATEGORIES:Meditation
ATTACH;FMTTYPE=image/jpeg:https://www.yuloling.com/wp-content/uploads/2025/02/blessing-3.jpg
END:VEVENT
BEGIN:VEVENT
DTSTART;TZID=Australia/Brisbane:20260128T093000
DTEND;TZID=Australia/Brisbane:20260128T103000
DTSTAMP:20260425T201814
CREATED:20251222T025458Z
LAST-MODIFIED:20251222T025458Z
UID:2341-1769592600-1769596200@www.yuloling.com
SUMMARY:Chenrezig Practice - Wednesday mornings at 9.30am
DESCRIPTION:We do the practice of Chenrezig – Avolokiteshvara\, every Wednesday morning at 9.30am and dedicate it to those who are sick\, suffering and recently deceased. \nWe have a healing list with names of people in the community who are in need of prayers and we also have a list for those who have died. We offer prayers and mantras on their behalf and many have found this very helpful in both the healing and grieving process. It is a simple\, beautiful\, yet quite profound practice \n\n\n\n\n\n\nIt is preferable if people have had the transmission of the Mantra “Om Mani Padme Hum”. \nFor those who are new and don’t have the transmission to this practice\, we recommend that you sit in and listen for the first time\, as a meditation practice. \nThe practice takes around 45 minutes and is chanted mainly in English except for some Sanskrit verses.\n\n\n\n\n\n\nAbout Chenrezig – Avolokiteshvara
URL:https://www.yuloling.com/event/chenrezig-practice-wednesday-mornings-at-9-30am-13/
ATTACH;FMTTYPE=image/jpeg:https://www.yuloling.com/wp-content/uploads/2025/03/Chenrezig_whiteLotus.jpg
END:VEVENT
BEGIN:VEVENT
DTSTART;TZID=Australia/Brisbane:20260127T190000
DTEND;TZID=Australia/Brisbane:20260331T200000
DTSTAMP:20260425T201814
CREATED:20260104T000014Z
LAST-MODIFIED:20260104T000014Z
UID:2435-1769540400-1774987200@www.yuloling.com
SUMMARY:Tuesday Evening Guided Meditations Bookings essential via Trybookink link below.
DESCRIPTION:Tuesday Evening Guided Meditations 27th January to 31st March\nVenerable Rinchen will lead the guided meditations which include instructions on both Shamatha and Vipassana Meditation techniques as well as the 4 Immeasurable meditations\, Loving Kindness\, Comapassion\, Joy and Equanimity.  These evenings are suitable for both beginners and regular meditators. \nThe cost is $10 per session and and is also available via Zoom.  A Zoom link will be sent after 5pm each Tuesday for the evening session.   \nIf you are attending in person please bring a sarong/towel to cover cushion or chair and please do not attend if you have any cold or flu like symptoms.  \nBookings are essential via our Trybooking link on: https://www.trybooking.com/DILBT
URL:https://www.yuloling.com/event/tuesday-evening-guided-meditations-bookings-essential-via-trybookink-link-below-5/
LOCATION:Khacho Yulo Ling Buddhist Centre\, 348 Severin Street\, Cairns\, QLD\, 4879\, Australia
ATTACH;FMTTYPE=image/jpeg:https://www.yuloling.com/wp-content/uploads/2025/02/images-5-e1746844494444.jpg
END:VEVENT
BEGIN:VEVENT
DTSTART;TZID=Australia/Brisbane:20260127T190000
DTEND;TZID=Australia/Brisbane:20260127T200000
DTSTAMP:20260425T201814
CREATED:20260104T000302Z
LAST-MODIFIED:20260104T000302Z
UID:2437-1769540400-1769544000@www.yuloling.com
SUMMARY:Tuesday Evening Guided Meditations Bookings essential via Trybookink link below.
DESCRIPTION:Tuesday Evening Guided Meditations 27th January to 31st March\nVenerable Rinchen will lead the guided meditations which include instructions on both Shamatha and Vipassana Meditation techniques as well as the 4 Immeasurable meditations\, Loving Kindness\, Comapassion\, Joy and Equanimity.  These evenings are suitable for both beginners and regular meditators. \nThe cost is $10 per session and and is also available via Zoom.  A Zoom link will be sent after 5pm each Tuesday for the evening session.   \nIf you are attending in person please bring a sarong/towel to cover cushion or chair and please do not attend if you have any cold or flu like symptoms.  \nBookings are essential via our Trybooking link on: https://www.trybooking.com/DILBT
URL:https://www.yuloling.com/event/tuesday-evening-guided-meditations-bookings-essential-via-trybookink-link-below-6/
LOCATION:Khacho Yulo Ling Buddhist Centre\, 348 Severin Street\, Cairns\, QLD\, 4879\, Australia
CATEGORIES:Meditation
ATTACH;FMTTYPE=image/jpeg:https://www.yuloling.com/wp-content/uploads/2025/02/images-5-e1746844494444.jpg
END:VEVENT
END:VCALENDAR